BEGIN:VCALENDAR
VERSION:2.0
PRODID:-//Navelgas Oro - ECPv6.3.7//NONSGML v1.0//EN
CALSCALE:GREGORIAN
METHOD:PUBLISH
X-ORIGINAL-URL:https://navelgasoro.com
X-WR-CALDESC:Eventos para Navelgas Oro
REFRESH-INTERVAL;VALUE=DURATION:PT1H
X-Robots-Tag:noindex
X-PUBLISHED-TTL:PT1H
BEGIN:VTIMEZONE
TZID:UTC
BEGIN:STANDARD
TZOFFSETFROM:+0000
TZOFFSETTO:+0000
TZNAME:UTC
DTSTART:20250101T000000
END:STANDARD
END:VTIMEZONE
BEGIN:VEVENT
DTSTART;VALUE=DATE:20250731
DTEND;VALUE=DATE:20250811
DTSTAMP:20260425T140756
CREATED:20240605T075607Z
LAST-MODIFIED:20250224T094645Z
UID:23124-1753920000-1754870399@navelgasoro.com
SUMMARY:Campeonato Mundial de Bateo de Oro 2025
DESCRIPTION:
URL:https://navelgasoro.com/event/campeonato-mundial-de-bateo-de-oro-2025/
LOCATION:Navelgas (Tineo)\, Barrio\, Cmo. de la Iglesia\, s/n Navelgas\, Asturias\, Navelgas\, Asturias\, 33873\, España
ATTACH;FMTTYPE=image/jpeg:https://navelgasoro.com/wp-content/uploads/2024/05/2023_Bateo_210-scaled.jpg
END:VEVENT
END:VCALENDAR